BEGIN:VCALENDAR
VERSION:2.0
PRODID:icalendar-ruby
CALSCALE:GREGORIAN
METHOD:PUBLISH
BEGIN:VEVENT
DTSTAMP:20260424T233556Z
UID:5-2034342@standrews-elca.org
DTSTART:20261004T230000Z
DTEND:20261005T000000Z
CLASS:PUBLIC
CREATED:20260424T180653
DESCRIPTION:As a faith community\, we will join together in fellowship to r
 ead God's word. We will work together to learn and understand what the Bib
 le is saying for each of us through scripture\, discussion\, and prayer.\n
 As a group we are currently reading and discussing the books of the New Te
 stament. Anyone is welcomed. Please bring questions and concerns each Sund
 ay evening. Join in on our fellowship and learning about the Lord.
LAST-MODIFIED:20260424T180653
LOCATION:Zoom
SUMMARY:Faith Formation
URL;VALUE=URI:https://standrews-elca.org/events/faith-formation/2026-10-04
ATTACH;FILENAME=DSC_2564.JPG;FMTTYPE=image/jpeg:https://dq5pwpg1q8ru0.cloud
 front.net/2020/06/16/10/11/54/aee4c7d9-14d2-4933-8c94-56d722bb1e96/DSC_256
 4.JPG
END:VEVENT
END:VCALENDAR
